BEGIN:VCALENDAR
VERSION:2.0
PRODID:-//Tukios.com/
BEGIN:VEVENT
UID:5c6a95b1-2d57-4e8c-be92-a84bd0586b54@www.clockfuneralhome.com
DTSTAMP:20260422T185257Z
DTSTART:20260428T160000Z
DTEND:20260428T170000Z
SUMMARY:Funeral Service
DESCRIPTION:
URL:https://www.clockfuneralhome.com/obituaries/roger-calloway
LOCATION:Clock Funeral Home 1469 Peck Street  Muskegon MI 49441
GEO:43.2256705;-86.2450234
END:VEVENT
END:VCALENDAR