BEGIN:VCALENDAR
VERSION:2.0
PRODID:-//Tukios.com/
BEGIN:VEVENT
UID:359f2c2b-22d6-479f-acc8-554308a15832@www.clockfuneralhome.com
DTSTAMP:20260422T185502Z
DTSTART:20260428T150000Z
DTEND:20260428T160000Z
SUMMARY:Visitation
DESCRIPTION:
URL:https://www.clockfuneralhome.com/obituaries/roger-calloway
LOCATION:Clock Funeral Home 1469 Peck Street  Muskegon MI 49441
GEO:43.2256705;-86.2450234
END:VEVENT
END:VCALENDAR