BEGIN:VCALENDAR
VERSION:2.0
PRODID:-//Tukios.com/
BEGIN:VEVENT
UID:f2f3ecdb-790c-4e3a-b57d-74ac31924502@www.clockfuneralhome.com
DTSTAMP:20260422T184954Z
DTSTART:20260428T180000Z
DTEND:20260428T190000Z
SUMMARY:Reception
DESCRIPTION:
URL:https://www.clockfuneralhome.com/obituaries/roger-calloway
LOCATION:Smith Ryerson Center 650 Wood St  Muskegon MI 49442
GEO:43.24086;-86.231391
END:VEVENT
END:VCALENDAR