BEGIN:VCALENDAR
VERSION:2.0
PRODID:-//Tukios.com/
BEGIN:VEVENT
UID:ddc3b16c-c97d-413f-add8-ddb353b98f0f@www.clockfuneralhome.com
DTSTAMP:20260421T212544Z
DTSTART:20260424T200000Z
DTEND:20260424T220000Z
SUMMARY:Celebration of Life
DESCRIPTION:
URL:https://www.clockfuneralhome.com/obituaries/enrique-herrera
LOCATION:Clock Funeral Home 1469 Peck Street  Muskegon MI 49441
GEO:43.2256705;-86.2450234
END:VEVENT
END:VCALENDAR