BEGIN:VCALENDAR
VERSION:2.0
PRODID:-//Tukios.com/
BEGIN:VEVENT
UID:db9537a6-9da9-423b-859b-ffc7c0a74ba2@www.clockfuneralhome.com
DTSTAMP:20260421T212335Z
DTSTART:20260424T210000Z
DTEND:20260424T213000Z
SUMMARY:Time of Sharing
DESCRIPTION:
URL:https://www.clockfuneralhome.com/obituaries/enrique-herrera
LOCATION:Clock Funeral Home 1469 Peck Street  Muskegon MI 49441
GEO:43.2256705;-86.2450234
END:VEVENT
END:VCALENDAR